BEGIN:VCALENDAR
VERSION:2.0
PRODID:-//Irrsinnig Menschlich e. V. - ECPv6.15.18//NONSGML v1.0//EN
CALSCALE:GREGORIAN
METHOD:PUBLISH
X-ORIGINAL-URL:https://www.irrsinnig-menschlich.de
X-WR-CALDESC:Veranstaltungen für Irrsinnig Menschlich e. V.
REFRESH-INTERVAL;VALUE=DURATION:PT1H
X-Robots-Tag:noindex
X-PUBLISHED-TTL:PT1H
BEGIN:VTIMEZONE
TZID:Europe/Berlin
BEGIN:DAYLIGHT
TZOFFSETFROM:+0100
TZOFFSETTO:+0200
TZNAME:CEST
DTSTART:20250330T010000
END:DAYLIGHT
BEGIN:STANDARD
TZOFFSETFROM:+0200
TZOFFSETTO:+0100
TZNAME:CET
DTSTART:20251026T010000
END:STANDARD
BEGIN:DAYLIGHT
TZOFFSETFROM:+0100
TZOFFSETTO:+0200
TZNAME:CEST
DTSTART:20260329T010000
END:DAYLIGHT
BEGIN:STANDARD
TZOFFSETFROM:+0200
TZOFFSETTO:+0100
TZNAME:CET
DTSTART:20261025T010000
END:STANDARD
BEGIN:DAYLIGHT
TZOFFSETFROM:+0100
TZOFFSETTO:+0200
TZNAME:CEST
DTSTART:20270328T010000
END:DAYLIGHT
BEGIN:STANDARD
TZOFFSETFROM:+0200
TZOFFSETTO:+0100
TZNAME:CET
DTSTART:20271031T010000
END:STANDARD
END:VTIMEZONE
BEGIN:VEVENT
DTSTART;TZID=Europe/Berlin:20261110T170000
DTEND;TZID=Europe/Berlin:20261110T190000
DTSTAMP:20260422T174810
CREATED:20260312T141804Z
LAST-MODIFIED:20260312T142228Z
UID:98583-1794330000-1794337200@www.irrsinnig-menschlich.de
SUMMARY:Hochschulübergreifendes Forum
DESCRIPTION:Online Forum für Studierende I HS Hannover und weiter Hochschulen (J/M)
URL:https://www.irrsinnig-menschlich.de/event/hochschuluebergreifendes-forum-6/
END:VEVENT
BEGIN:VEVENT
DTSTART;TZID=Europe/Berlin:20261118T170000
DTEND;TZID=Europe/Berlin:20261118T190000
DTSTAMP:20260422T174810
CREATED:20260303T145148Z
LAST-MODIFIED:20260303T145148Z
UID:97906-1795021200-1795028400@www.irrsinnig-menschlich.de
SUMMARY:Hochschule Rhein Waal
DESCRIPTION:Online Forum für Studierende (J/M)
URL:https://www.irrsinnig-menschlich.de/event/hochschule-rhein-waal/
END:VEVENT
END:VCALENDAR